BEGIN:VCALENDAR
VERSION:2.0
PRODID:-//Oxford Society of Ageing and Longevity - ECPv6.13.2.1//NONSGML v1.0//EN
CALSCALE:GREGORIAN
METHOD:PUBLISH
X-ORIGINAL-URL:https://www.ageingandlongevity.org
X-WR-CALDESC:Events for Oxford Society of Ageing and Longevity
REFRESH-INTERVAL;VALUE=DURATION:PT1H
X-Robots-Tag:noindex
X-PUBLISHED-TTL:PT1H
BEGIN:VTIMEZONE
TZID:UTC
BEGIN:STANDARD
TZOFFSETFROM:+0000
TZOFFSETTO:+0000
TZNAME:UTC
DTSTART:20250101T000000
END:STANDARD
END:VTIMEZONE
BEGIN:VEVENT
DTSTART;TZID=UTC:20250313T180000
DTEND;TZID=UTC:20250313T200000
DTSTAMP:20260424T121432
CREATED:20250311T180731Z
LAST-MODIFIED:20250311T180844Z
UID:1154-1741888800-1741896000@www.ageingandlongevity.org
SUMMARY:The Gene Therapy Revolution
DESCRIPTION:We are thrilled to invite you to an exclusive talk hosted by the Oxford Society of Ageing and Longevity (OSAL) featuring Dr. Patrick E. Sewell\, MD\, Co-Founder and Chief Scientist at TriplHelix Gene Therapies. \n📅 Date: Thursday\, 13th March\n🕕 Time: 6:00 PM\n📍 Location: Fitzhugh Auditorium\, Cohen Quad\, Walton St\, Oxford OX1 2HG \nDr. Sewell is a pioneering figure in gene therapy\, regenerative medicine\, and interventional oncology. With over three decades of groundbreaking work\, including systemic gene therapy for longevity\, stem cell innovations\, and minimally invasive cancer treatments\, he is at the forefront of reshaping modern medicine.\nJoin us as Dr. Sewell explores how gene therapy is ushering in a new era of longevity and what this means for the future of health and human enhancement. This is a unique opportunity to engage with a world-leading scientist and discuss the latest advancements in the field.
URL:https://www.ageingandlongevity.org/event/the-gene-therapy-revolution/
LOCATION:Cohen Quad. The Fitzhugh Auditorium
ATTACH;FMTTYPE=image/png:https://www.ageingandlongevity.org/wp-content/uploads/2025/03/Screenshot-2025-03-11-at-2.04.04 PM.png
END:VEVENT
END:VCALENDAR