BEGIN:VCALENDAR
VERSION:2.0
PRODID:-//Oxford Society of Ageing and Longevity - ECPv6.13.2.1//NONSGML v1.0//EN
CALSCALE:GREGORIAN
METHOD:PUBLISH
X-ORIGINAL-URL:https://www.ageingandlongevity.org
X-WR-CALDESC:Events for Oxford Society of Ageing and Longevity
REFRESH-INTERVAL;VALUE=DURATION:PT1H
X-Robots-Tag:noindex
X-PUBLISHED-TTL:PT1H
BEGIN:VTIMEZONE
TZID:UTC
BEGIN:STANDARD
TZOFFSETFROM:+0000
TZOFFSETTO:+0000
TZNAME:UTC
DTSTART:20250101T000000
END:STANDARD
END:VTIMEZONE
BEGIN:VEVENT
DTSTART;TZID=UTC:20250822T200000
DTEND;TZID=UTC:20250822T213000
DTSTAMP:20260424T050209
CREATED:20250814T125243Z
LAST-MODIFIED:20250814T125820Z
UID:1171-1755892800-1755898200@www.ageingandlongevity.org
SUMMARY:VC Insights on the Future of Longevity Biotech
DESCRIPTION:Join us for an exclusive session with Sebastian Brunemeier\, one of the most influential figures at the intersection of biotechnology\, ageing research\, and venture capital. \n​Sebastian A. Brunemeier is a biotech VC and company builder focused on longevity & regenerative medicine. He is Co-Founder and General Partner of Healthspan Capital\, and Partner at Long Game Ventures. Previously\, he was Principal at Apollo Health Ventures\, the largest longevity fund in the world\, CIO and Co-Founder at Cambrian Biopharma\, and Founder of Samsara Therapeutics. He was a DPhil (PhD) Clarendon Scholar in Biochemistry at the University of Oxford\, a Fulbright Fellow\, a Skaggs-Oxford Scholar at the Scripps Research Institute\, and holds a dual MSc in Molecular Neuroscience and Biotech Business Management from University of Amsterdam. \n​In this session\, Sebastian will share insights on: \n\n​The global longevity biotech investment landscape\n​What makes a longevity startup investor-ready\n​The intersection of science\, entrepreneurship\, and capital\n​Career pathways for students and researchers in the field\n​His own journey from academic ageing research to founding and funding frontier biotech ventures\n\n​Open to all students\, faculty\, researchers\, and future founders interested in biotech\, aging science\, and healthspan innovation. \n​Event Highlights: \n\n​Deep dive into the world of longevity investing and emerging biotech\n​Learn what makes a longevity startup investor-ready\n​Breathtaking view of London from the 32nd floor venue\n​Complimentary Longevity Protein Shake Samples to fuel your healthspan journey
URL:https://www.ageingandlongevity.org/event/vc-insights-on-the-future-of-longevity-biotech/
ATTACH;FMTTYPE=image/png:https://www.ageingandlongevity.org/wp-content/uploads/2025/08/c064431a-ef76-4009-0282-342d3a8f381a.png
END:VEVENT
END:VCALENDAR