BEGIN:VCALENDAR
VERSION:2.0
PRODID:-//Oxford Society of Ageing and Longevity - ECPv6.13.2.1//NONSGML v1.0//EN
CALSCALE:GREGORIAN
METHOD:PUBLISH
X-WR-CALNAME:Oxford Society of Ageing and Longevity
X-ORIGINAL-URL:https://www.ageingandlongevity.org
X-WR-CALDESC:Events for Oxford Society of Ageing and Longevity
REFRESH-INTERVAL;VALUE=DURATION:PT1H
X-Robots-Tag:noindex
X-PUBLISHED-TTL:PT1H
BEGIN:VTIMEZONE
TZID:UTC
BEGIN:STANDARD
TZOFFSETFROM:+0000
TZOFFSETTO:+0000
TZNAME:UTC
DTSTART:20260101T000000
END:STANDARD
END:VTIMEZONE
BEGIN:VEVENT
DTSTART;TZID=UTC:20260317T180000
DTEND;TZID=UTC:20260317T180000
DTSTAMP:20260423T232951
CREATED:20260312T113545Z
LAST-MODIFIED:20260312T113630Z
UID:1226-1773770400-1773770400@www.ageingandlongevity.org
SUMMARY:What do epigenetic clocks teach us about ageing and longevity?
DESCRIPTION:We’re delighted to invite you to an in‑person event with Professor Steve Horvath\, one of the world’s most influential ageing researchers and a principal investigator at Altos Labs. This event is co-hosted by the Oxford Society of Ageing and Longevity(OSAL) and the Consumer\, Media and Lifestyle OBN at Saïd Business School. \nThe development of DNA methylation-based epigenetic clocks has revolutionized our ability to measure biological age across tissues and species. In this talk\, Professor Horvath will synthesize insights from his foundational clocks\, such as PhenoAge and GrimAge\, to discuss what they reveal about individual ageing trajectories and how lifestyle\, environment\, and chronic disease accelerate biological ageing. He will also rigorously address the promise and limitations of these tools as surrogate endpoints in translational geroscience and anti-ageing clinical trials.
URL:https://www.ageingandlongevity.org/event/what-do-epigenetic-clocks-teach-us-about-ageing-and-longevity/
LOCATION:Rhodes Trust Lecture Theatre\, Oxford\, OX11HP
ATTACH;FMTTYPE=image/png:https://www.ageingandlongevity.org/wp-content/uploads/2026/03/EpigenetiC-ocksTeachUs.png
END:VEVENT
END:VCALENDAR